BEGIN:VCALENDAR
VERSION:2.0
PRODID:-//Vi i Langban//Event Calendar//SV
CALSCALE:GREGORIAN
METHOD:PUBLISH
BEGIN:VEVENT
UID:vil-event-2204@staging.langban.se
DTSTAMP:20260426T011943Z
SUMMARY:Sommarloppis
DTSTART;VALUE=DATE:20240818
DTEND;VALUE=DATE:20240819
STATUS:CONFIRMED
TRANSP:OPAQUE
END:VEVENT
END:VCALENDAR
