BEGIN:VCALENDAR
VERSION:2.0
PRODID:-//Vi i Langban//Event Calendar//SV
CALSCALE:GREGORIAN
METHOD:PUBLISH
BEGIN:VEVENT
UID:vil-event-2205@staging.langban.se
DTSTAMP:20260425T234021Z
SUMMARY:Höstloppis
DTSTART;VALUE=DATE:20240914
DTEND;VALUE=DATE:20240915
STATUS:CONFIRMED
TRANSP:OPAQUE
END:VEVENT
END:VCALENDAR
