BEGIN:VCALENDAR
VERSION:2.0
PRODID:-//Vi i Langban//Event Calendar//SV
CALSCALE:GREGORIAN
METHOD:PUBLISH
BEGIN:VEVENT
UID:vil-event-2207@staging.langban.se
DTSTAMP:20260425T213403Z
SUMMARY:Potatisbilen
DTSTART;VALUE=DATE:20241116
DTEND;VALUE=DATE:20241117
STATUS:CONFIRMED
TRANSP:OPAQUE
END:VEVENT
END:VCALENDAR
