BEGIN:VCALENDAR
VERSION:2.0
PRODID:-//Vi i Langban//Event Calendar//SV
CALSCALE:GREGORIAN
METHOD:PUBLISH
BEGIN:VEVENT
UID:vil-event-2208@staging.langban.se
DTSTAMP:20260425T173546Z
SUMMARY:Potatisbilen
DTSTART;VALUE=DATE:20241214
DTEND;VALUE=DATE:20241215
STATUS:CONFIRMED
TRANSP:OPAQUE
END:VEVENT
END:VCALENDAR
