BEGIN:VCALENDAR
VERSION:2.0
PRODID:-//Vi i Langban//Event Calendar//SV
CALSCALE:GREGORIAN
METHOD:PUBLISH
BEGIN:VEVENT
UID:vil-event-2209@staging.langban.se
DTSTAMP:20260425T153845Z
SUMMARY:Julmarknad
DTSTART;VALUE=DATE:20241201
DTEND;VALUE=DATE:20241202
STATUS:CONFIRMED
TRANSP:OPAQUE
END:VEVENT
END:VCALENDAR
