BEGIN:VCALENDAR
VERSION:2.0
PRODID:-//Vi i Langban//Event Calendar//SV
CALSCALE:GREGORIAN
METHOD:PUBLISH
BEGIN:VEVENT
UID:vil-event-2210@staging.langban.se
DTSTAMP:20260425T135332Z
SUMMARY:Barnbio i Långban Nov 3
DTSTART;VALUE=DATE:20241103
DTEND;VALUE=DATE:20241104
STATUS:CONFIRMED
TRANSP:OPAQUE
END:VEVENT
END:VCALENDAR
