BEGIN:VCALENDAR
VERSION:2.0
PRODID:-//Vi i Langban//Event Calendar//SV
CALSCALE:GREGORIAN
METHOD:PUBLISH
BEGIN:VEVENT
UID:vil-event-2211@staging.langban.se
DTSTAMP:20260425T121243Z
SUMMARY:Potatisbilen
DTSTART;VALUE=DATE:20250920
DTEND;VALUE=DATE:20250921
STATUS:CONFIRMED
TRANSP:OPAQUE
END:VEVENT
END:VCALENDAR
