BEGIN:VCALENDAR
VERSION:2.0
PRODID:-//Vi i Langban//Event Calendar//SV
CALSCALE:GREGORIAN
METHOD:PUBLISH
BEGIN:VEVENT
UID:vil-event-2213@staging.langban.se
DTSTAMP:20260425T085317Z
SUMMARY:Potatisbilen
DTSTART;VALUE=DATE:20251115
DTEND;VALUE=DATE:20251116
STATUS:CONFIRMED
TRANSP:OPAQUE
END:VEVENT
END:VCALENDAR
