BEGIN:VCALENDAR
VERSION:2.0
PRODID:-//Vi i Langban//Event Calendar//SV
CALSCALE:GREGORIAN
METHOD:PUBLISH
BEGIN:VEVENT
UID:vil-event-2217@staging.langban.se
DTSTAMP:20260423T090412Z
SUMMARY:Höstloppis
DTSTART;VALUE=DATE:20250913
DTEND;VALUE=DATE:20250914
STATUS:CONFIRMED
TRANSP:OPAQUE
END:VEVENT
END:VCALENDAR
