BEGIN:VCALENDAR
VERSION:2.0
PRODID:-//Vi i Langban//Event Calendar//SV
CALSCALE:GREGORIAN
METHOD:PUBLISH
BEGIN:VEVENT
UID:vil-event-2218@staging.langban.se
DTSTAMP:20260417T193257Z
SUMMARY:Höstlovfilm
DTSTART;VALUE=DATE:20251025
DTEND;VALUE=DATE:20251026
STATUS:CONFIRMED
TRANSP:OPAQUE
END:VEVENT
END:VCALENDAR
